BEGIN:VCALENDAR
VERSION:2.0
PRODID:-//Plone.org//NONSGML plone.app.event//EN
X-WR-TIMEZONE:Europe/Madrid
BEGIN:VEVENT
SUMMARY:Junta de Govern Local
DTSTART;TZID=Europe/Madrid;VALUE=DATE-TIME:20220331T170000
DTEND;TZID=Europe/Madrid;VALUE=DATE-TIME:20220331T180000
DTSTAMP;VALUE=DATE-TIME:20260420T135933Z
UID:a23c94357ad4fbae31da2d254d7ce3f4
CREATED;VALUE=DATE-TIME:20220331T000000Z
CATEGORIES:Agenda institucional
URL:https://www.canetdemar.cat/document.php?id=22436
END:VEVENT
END:VCALENDAR