BEGIN:VCALENDAR
VERSION:2.0
PRODID:-//Plone.org//NONSGML plone.app.event//EN
X-WR-TIMEZONE:Europe/Madrid
BEGIN:VEVENT
SUMMARY:Junta de Govern Local
DTSTART;TZID=Europe/Madrid;VALUE=DATE-TIME:20220224T170000
DTEND;TZID=Europe/Madrid;VALUE=DATE-TIME:20220224T180000
DTSTAMP;VALUE=DATE-TIME:20260420T034403Z
UID:dab37e62a122aeab837207b4298ff8a8
CREATED;VALUE=DATE-TIME:20220224T000000Z
CATEGORIES:Agenda institucional
URL:https://www.canetdemar.cat/document.php?id=22431
END:VEVENT
END:VCALENDAR