BEGIN:VCALENDAR
VERSION:2.0
PRODID:-//Plone.org//NONSGML plone.app.event//EN
X-WR-TIMEZONE:Europe/Madrid
BEGIN:VEVENT
SUMMARY:Junta de Govern Local
DTSTART;TZID=Europe/Madrid;VALUE=DATE-TIME:20220210T170000
DTEND;TZID=Europe/Madrid;VALUE=DATE-TIME:20220210T180000
DTSTAMP;VALUE=DATE-TIME:20260420T090037Z
UID:3a77b2a2aa90bf4c4e2df5d114ca7a4e
CREATED;VALUE=DATE-TIME:20220210T000000Z
CATEGORIES:Agenda institucional
URL:https://www.canetdemar.cat/document.php?id=22429
END:VEVENT
END:VCALENDAR