BEGIN:VCALENDAR
VERSION:2.0
PRODID:-//Plone.org//NONSGML plone.app.event//EN
X-WR-TIMEZONE:Europe/Madrid
BEGIN:VEVENT
SUMMARY:Junta de Govern Local
DTSTART;TZID=Europe/Madrid;VALUE=DATE-TIME:20220127T170000
DTEND;TZID=Europe/Madrid;VALUE=DATE-TIME:20220127T180000
DTSTAMP;VALUE=DATE-TIME:20260420T034448Z
UID:4c98d64f746293b35086eb28fccd4978
CREATED;VALUE=DATE-TIME:20220127T000000Z
CATEGORIES:Agenda institucional
URL:https://www.canetdemar.cat/document.php?id=22427
END:VEVENT
END:VCALENDAR