BEGIN:VCALENDAR
VERSION:2.0
PRODID:-//Plone.org//NONSGML plone.app.event//EN
X-WR-TIMEZONE:Europe/Madrid
BEGIN:VEVENT
SUMMARY:Junta de Govern Local
DTSTART;TZID=Europe/Madrid;VALUE=DATE-TIME:20220120T170000
DTEND;TZID=Europe/Madrid;VALUE=DATE-TIME:20220120T180000
DTSTAMP;VALUE=DATE-TIME:20260420T034503Z
UID:9eeca0bc812d8ad5d18fa22861df05c6
CREATED;VALUE=DATE-TIME:20220120T000000Z
CATEGORIES:Agenda institucional
URL:https://www.canetdemar.cat/document.php?id=22426
END:VEVENT
END:VCALENDAR