BEGIN:VCALENDAR
VERSION:2.0
PRODID:-//Plone.org//NONSGML plone.app.event//EN
X-WR-TIMEZONE:Europe/Madrid
BEGIN:VEVENT
SUMMARY:Junta de Govern Local
DTSTART;TZID=Europe/Madrid;VALUE=DATE-TIME:20220105T160000
DTEND;TZID=Europe/Madrid;VALUE=DATE-TIME:20220105T170000
DTSTAMP;VALUE=DATE-TIME:20260419T211001Z
UID:16ed39e982c9a579e2cd30336ff07a87
CREATED;VALUE=DATE-TIME:20220105T000000Z
CATEGORIES:Agenda institucional
URL:https://www.canetdemar.cat/document.php?id=22424
END:VEVENT
END:VCALENDAR