BEGIN:VCALENDAR
VERSION:2.0
PRODID:-//Plone.org//NONSGML plone.app.event//EN
X-WR-TIMEZONE:Europe/Madrid
BEGIN:VEVENT
SUMMARY:Visita nau Brigada d'Obres i Serveis
DTSTART;TZID=Europe/Madrid;VALUE=DATE-TIME:20220105T120000
DTEND;TZID=Europe/Madrid;VALUE=DATE-TIME:20220105T130000
DTSTAMP;VALUE=DATE-TIME:20260419T224024Z
UID:9adfb63b612f75dc050a37d5488545c3
CREATED;VALUE=DATE-TIME:20220105T000000Z
CATEGORIES:Agenda institucional
LOCATION:Nau de la Brigada
URL:https://www.canetdemar.cat/document.php?id=22423
END:VEVENT
END:VCALENDAR