BEGIN:VCALENDAR
VERSION:2.0
PRODID:-//Plone.org//NONSGML plone.app.event//EN
X-WR-TIMEZONE:Europe/Madrid
BEGIN:VEVENT
SUMMARY:Entrevista Ràdio Canet
DTSTART;TZID=Europe/Madrid;VALUE=DATE-TIME:20220302T110000
DTEND;TZID=Europe/Madrid;VALUE=DATE-TIME:20220302T120000
DTSTAMP;VALUE=DATE-TIME:20260420T074044Z
UID:dd67a22b5352f9d8bed9a7c028580a63
CREATED;VALUE=DATE-TIME:20220302T000000Z
CATEGORIES:Agenda institucional
LOCATION:Estudis de Ràdio Canet
URL:https://www.canetdemar.cat/document.php?id=22422
END:VEVENT
END:VCALENDAR