BEGIN:VCALENDAR
VERSION:2.0
PRODID:-//Plone.org//NONSGML plone.app.event//EN
X-WR-TIMEZONE:Europe/Madrid
BEGIN:VEVENT
SUMMARY:Entrevista Ràdio Canet
DTSTART;TZID=Europe/Madrid;VALUE=DATE-TIME:20220202T110000
DTEND;TZID=Europe/Madrid;VALUE=DATE-TIME:20220202T120000
DTSTAMP;VALUE=DATE-TIME:20260420T003533Z
UID:50781c2f45ef10e0d68905478b48ae12
CREATED;VALUE=DATE-TIME:20220202T000000Z
CATEGORIES:Agenda institucional
LOCATION:Estudis de Ràdio Canet
URL:https://www.canetdemar.cat/document.php?id=22421
END:VEVENT
END:VCALENDAR