BEGIN:VCALENDAR
VERSION:2.0
PRODID:-//Plone.org//NONSGML plone.app.event//EN
X-WR-TIMEZONE:Europe/Madrid
BEGIN:VEVENT
SUMMARY:Entrevista Ràdio Canet
DTSTART;TZID=Europe/Madrid;VALUE=DATE-TIME:20220112T110000
DTEND;TZID=Europe/Madrid;VALUE=DATE-TIME:20220112T120000
DTSTAMP;VALUE=DATE-TIME:20260420T083850Z
UID:46e7224910b36d234ccd9547d1113247
CREATED;VALUE=DATE-TIME:20220112T000000Z
CATEGORIES:Agenda institucional
LOCATION:Estudis de Ràdio Canet
URL:https://www.canetdemar.cat/document.php?id=22420
END:VEVENT
END:VCALENDAR