BEGIN:VCALENDAR
VERSION:2.0
PRODID:-//Plone.org//NONSGML plone.app.event//EN
X-WR-TIMEZONE:Europe/Madrid
BEGIN:VEVENT
SUMMARY:Reunió Interna de coordinació de l'Ajuntament
DTSTART;TZID=Europe/Madrid;VALUE=DATE-TIME:20220302T114500
DTEND;TZID=Europe/Madrid;VALUE=DATE-TIME:20220302T124500
DTSTAMP;VALUE=DATE-TIME:20260423T111820Z
UID:753f38c885caa26d810a89bce1df7a34
CREATED;VALUE=DATE-TIME:20220302T000000Z
CATEGORIES:Agenda institucional
URL:https://www.canetdemar.cat/document.php?id=22419
END:VEVENT
END:VCALENDAR