BEGIN:VCALENDAR
VERSION:2.0
PRODID:-//Plone.org//NONSGML plone.app.event//EN
X-WR-TIMEZONE:Europe/Madrid
BEGIN:VEVENT
SUMMARY:Reunió Interna de coordinació de l'Ajuntament
DTSTART;TZID=Europe/Madrid;VALUE=DATE-TIME:20220202T114500
DTEND;TZID=Europe/Madrid;VALUE=DATE-TIME:20220202T124500
DTSTAMP;VALUE=DATE-TIME:20260420T121010Z
UID:31d0eb10b881cdcea8627e22e16c2999
CREATED;VALUE=DATE-TIME:20220202T000000Z
CATEGORIES:Agenda institucional
URL:https://www.canetdemar.cat/document.php?id=22418
END:VEVENT
END:VCALENDAR