BEGIN:VCALENDAR
VERSION:2.0
PRODID:-//Plone.org//NONSGML plone.app.event//EN
X-WR-TIMEZONE:Europe/Madrid
BEGIN:VEVENT
SUMMARY:Reunió Interna de coordinació de l'Ajuntament
DTSTART;TZID=Europe/Madrid;VALUE=DATE-TIME:20220112T114500
DTEND;TZID=Europe/Madrid;VALUE=DATE-TIME:20220112T124500
DTSTAMP;VALUE=DATE-TIME:20260420T034418Z
UID:f8059ad8d7159d7a0122d13946708bf9
CREATED;VALUE=DATE-TIME:20220112T000000Z
CATEGORIES:Agenda institucional
URL:https://www.canetdemar.cat/document.php?id=22417
END:VEVENT
END:VCALENDAR