BEGIN:VCALENDAR
VERSION:2.0
PRODID:-//Plone.org//NONSGML plone.app.event//EN
X-WR-TIMEZONE:Europe/Madrid
BEGIN:VEVENT
SUMMARY:Reunió Interna de coordinació de l'Ajuntament
DTSTART;TZID=Europe/Madrid;VALUE=DATE-TIME:20220323T110000
DTEND;TZID=Europe/Madrid;VALUE=DATE-TIME:20220323T120000
DTSTAMP;VALUE=DATE-TIME:20260420T232517Z
UID:a935556b40aa03ae4f8436869ee04f6c
CREATED;VALUE=DATE-TIME:20220323T000000Z
CATEGORIES:Agenda institucional
URL:https://www.canetdemar.cat/document.php?id=22415
END:VEVENT
END:VCALENDAR