BEGIN:VCALENDAR
VERSION:2.0
PRODID:-//Plone.org//NONSGML plone.app.event//EN
X-WR-TIMEZONE:Europe/Madrid
BEGIN:VEVENT
SUMMARY:Reunió Interna de coordinació de l'Ajuntament
DTSTART;TZID=Europe/Madrid;VALUE=DATE-TIME:20220223T110000
DTEND;TZID=Europe/Madrid;VALUE=DATE-TIME:20220223T120000
DTSTAMP;VALUE=DATE-TIME:20260420T104158Z
UID:d5280e1c52225978306bc25cf52b98e6
CREATED;VALUE=DATE-TIME:20220223T000000Z
CATEGORIES:Agenda institucional
URL:https://www.canetdemar.cat/document.php?id=22412
END:VEVENT
END:VCALENDAR