BEGIN:VCALENDAR
VERSION:2.0
PRODID:-//Plone.org//NONSGML plone.app.event//EN
X-WR-TIMEZONE:Europe/Madrid
BEGIN:VEVENT
SUMMARY:Reunió Interna de coordinació de l'Ajuntament
DTSTART;TZID=Europe/Madrid;VALUE=DATE-TIME:20220216T110000
DTEND;TZID=Europe/Madrid;VALUE=DATE-TIME:20220216T120000
DTSTAMP;VALUE=DATE-TIME:20260420T054358Z
UID:e0011bca796614da15f2763285980cf4
CREATED;VALUE=DATE-TIME:20220216T000000Z
CATEGORIES:Agenda institucional
URL:https://www.canetdemar.cat/document.php?id=22411
END:VEVENT
END:VCALENDAR