BEGIN:VCALENDAR
VERSION:2.0
PRODID:-//Plone.org//NONSGML plone.app.event//EN
X-WR-TIMEZONE:Europe/Madrid
BEGIN:VEVENT
SUMMARY:Reunió Interna de coordinació de l'Ajuntament
DTSTART;TZID=Europe/Madrid;VALUE=DATE-TIME:20220209T110000
DTEND;TZID=Europe/Madrid;VALUE=DATE-TIME:20220209T120000
DTSTAMP;VALUE=DATE-TIME:20260420T071038Z
UID:8d34a25d5140f5c56b5a0b78d5e2c25c
CREATED;VALUE=DATE-TIME:20220209T000000Z
CATEGORIES:Agenda institucional
URL:https://www.canetdemar.cat/document.php?id=22410
END:VEVENT
END:VCALENDAR