BEGIN:VCALENDAR
VERSION:2.0
PRODID:-//Plone.org//NONSGML plone.app.event//EN
X-WR-TIMEZONE:Europe/Madrid
BEGIN:VEVENT
SUMMARY:Reunió Interna de coordinació de l'Ajuntament
DTSTART;TZID=Europe/Madrid;VALUE=DATE-TIME:20220119T110000
DTEND;TZID=Europe/Madrid;VALUE=DATE-TIME:20220119T120000
DTSTAMP;VALUE=DATE-TIME:20260420T003633Z
UID:6f830ca21fa713873f3cc4cf999b2c5b
CREATED;VALUE=DATE-TIME:20220119T000000Z
CATEGORIES:Agenda institucional
URL:https://www.canetdemar.cat/document.php?id=22408
END:VEVENT
END:VCALENDAR