BEGIN:VCALENDAR
VERSION:2.0
PRODID:-//Plone.org//NONSGML plone.app.event//EN
X-WR-TIMEZONE:Europe/Madrid
BEGIN:VEVENT
SUMMARY:Reunió de coordinació de l'Àrea de Seguretat Ciutadana
DTSTART;TZID=Europe/Madrid;VALUE=DATE-TIME:20220330T090000
DTEND;TZID=Europe/Madrid;VALUE=DATE-TIME:20220330T100000
DTSTAMP;VALUE=DATE-TIME:20260420T215548Z
UID:afb394bf47506a7259d37f3bedc3a5a0
CREATED;VALUE=DATE-TIME:20220330T000000Z
CATEGORIES:Agenda institucional
LOCATION:Comissaria de policia
URL:https://www.canetdemar.cat/document.php?id=22406
END:VEVENT
END:VCALENDAR