BEGIN:VCALENDAR
VERSION:2.0
PRODID:-//Plone.org//NONSGML plone.app.event//EN
X-WR-TIMEZONE:Europe/Madrid
BEGIN:VEVENT
SUMMARY:Reunió de coordinació de l'Àrea de Seguretat Ciutadana
DTSTART;TZID=Europe/Madrid;VALUE=DATE-TIME:20220316T090000
DTEND;TZID=Europe/Madrid;VALUE=DATE-TIME:20220316T100000
DTSTAMP;VALUE=DATE-TIME:20260420T185226Z
UID:d4780d0da3557c6ed7651fd883751b5c
CREATED;VALUE=DATE-TIME:20220316T000000Z
CATEGORIES:Agenda institucional
LOCATION:Comissaria de policia
URL:https://www.canetdemar.cat/document.php?id=22404
END:VEVENT
END:VCALENDAR