BEGIN:VCALENDAR
VERSION:2.0
PRODID:-//Plone.org//NONSGML plone.app.event//EN
X-WR-TIMEZONE:Europe/Madrid
BEGIN:VEVENT
SUMMARY:Reunió de coordinació de l'Àrea de Seguretat Ciutadana
DTSTART;TZID=Europe/Madrid;VALUE=DATE-TIME:20220309T090000
DTEND;TZID=Europe/Madrid;VALUE=DATE-TIME:20220309T100000
DTSTAMP;VALUE=DATE-TIME:20260420T135845Z
UID:2e82ff123b1f2c45064ac8519f5199ac
CREATED;VALUE=DATE-TIME:20220309T000000Z
CATEGORIES:Agenda institucional
LOCATION:Comissaria de policia
URL:https://www.canetdemar.cat/document.php?id=22403
END:VEVENT
END:VCALENDAR