BEGIN:VCALENDAR
VERSION:2.0
PRODID:-//Plone.org//NONSGML plone.app.event//EN
X-WR-TIMEZONE:Europe/Madrid
BEGIN:VEVENT
SUMMARY:Reunió de coordinació de l'Àrea de Seguretat Ciutadana
DTSTART;TZID=Europe/Madrid;VALUE=DATE-TIME:20220223T090000
DTEND;TZID=Europe/Madrid;VALUE=DATE-TIME:20220223T100000
DTSTAMP;VALUE=DATE-TIME:20260420T083621Z
UID:1d116ca2d23935681b3c67eada9ed37d
CREATED;VALUE=DATE-TIME:20220223T000000Z
CATEGORIES:Agenda institucional
LOCATION:Comissaria de policia
URL:https://www.canetdemar.cat/document.php?id=22401
END:VEVENT
END:VCALENDAR