BEGIN:VCALENDAR
VERSION:2.0
PRODID:-//Plone.org//NONSGML plone.app.event//EN
X-WR-TIMEZONE:Europe/Madrid
BEGIN:VEVENT
SUMMARY:XXIX Concurs de teatre Premi Pedracastell
DTSTART;TZID=Europe/Madrid;VALUE=DATE-TIME:20030309T181500
DTEND;TZID=Europe/Madrid;VALUE=DATE-TIME:20030309T191500
DTSTAMP;VALUE=DATE-TIME:20260423T133306Z
UID:6e9dab55a04675a38b6dc09a020c71d3
CREATED;VALUE=DATE-TIME:20030309T000000Z
DESCRIPTION:"Un tramvia anomenat desig"
URL:https://www.canetdemar.cat/document.php?id=224
END:VEVENT
END:VCALENDAR