BEGIN:VCALENDAR
VERSION:2.0
PRODID:-//Plone.org//NONSGML plone.app.event//EN
X-WR-TIMEZONE:Europe/Madrid
BEGIN:VEVENT
SUMMARY:Reunió de coordinació de l'Àrea de Seguretat Ciutadana
DTSTART;TZID=Europe/Madrid;VALUE=DATE-TIME:20220119T090000
DTEND;TZID=Europe/Madrid;VALUE=DATE-TIME:20220119T100000
DTSTAMP;VALUE=DATE-TIME:20260419T225039Z
UID:7942e690b14bb8d3da60adb43dbb3cbe
CREATED;VALUE=DATE-TIME:20220119T000000Z
CATEGORIES:Agenda institucional
LOCATION:Comissaria de policia
URL:https://www.canetdemar.cat/document.php?id=22396
END:VEVENT
END:VCALENDAR