BEGIN:VCALENDAR
VERSION:2.0
PRODID:-//Plone.org//NONSGML plone.app.event//EN
X-WR-TIMEZONE:Europe/Madrid
BEGIN:VEVENT
SUMMARY:Reunió de coordinació de l'Àrea de Seguretat Ciutadana
DTSTART;TZID=Europe/Madrid;VALUE=DATE-TIME:20220105T090000
DTEND;TZID=Europe/Madrid;VALUE=DATE-TIME:20220105T100000
DTSTAMP;VALUE=DATE-TIME:20260425T223911Z
UID:4853c5e430094f8b13e422c15c55e731
CREATED;VALUE=DATE-TIME:20220105T000000Z
CATEGORIES:Agenda institucional
LOCATION:Comissaria de policia
URL:https://www.canetdemar.cat/document.php?id=22394
END:VEVENT
END:VCALENDAR