BEGIN:VCALENDAR
VERSION:2.0
PRODID:-//Plone.org//NONSGML plone.app.event//EN
X-WR-TIMEZONE:Europe/Madrid
BEGIN:VEVENT
SUMMARY:Reunió amb un veí del municipi
DTSTART;TZID=Europe/Madrid;VALUE=DATE-TIME:20220104T120000
DTEND;TZID=Europe/Madrid;VALUE=DATE-TIME:20220104T130000
DTSTAMP;VALUE=DATE-TIME:20260421T131544Z
UID:4122dfe9e0d8b8060e903e0d1226e345
CREATED;VALUE=DATE-TIME:20220104T000000Z
CATEGORIES:Agenda institucional
LOCATION:Sala annexa Alcaldia
URL:https://www.canetdemar.cat/document.php?id=22393
END:VEVENT
END:VCALENDAR