BEGIN:VCALENDAR
VERSION:2.0
PRODID:-//Plone.org//NONSGML plone.app.event//EN
X-WR-TIMEZONE:Europe/Madrid
BEGIN:VEVENT
SUMMARY:Reunió protocol i comunicació
DTSTART;TZID=Europe/Madrid;VALUE=DATE-TIME:20220103T120000
DTEND;TZID=Europe/Madrid;VALUE=DATE-TIME:20220103T130000
DTSTAMP;VALUE=DATE-TIME:20260424T131626Z
UID:ba5b15e3b13788c7d19db34fe86b4192
CREATED;VALUE=DATE-TIME:20220103T000000Z
CATEGORIES:Agenda institucional
URL:https://www.canetdemar.cat/document.php?id=22391
END:VEVENT
END:VCALENDAR