BEGIN:VCALENDAR
VERSION:2.0
PRODID:-//Plone.org//NONSGML plone.app.event//EN
X-WR-TIMEZONE:Europe/Madrid
BEGIN:VEVENT
SUMMARY:Presentació servei de Policia de Proximitat
DTSTART;TZID=Europe/Madrid;VALUE=DATE-TIME:20220103T093000
DTEND;TZID=Europe/Madrid;VALUE=DATE-TIME:20220103T103000
DTSTAMP;VALUE=DATE-TIME:20260423T134607Z
UID:c1db5081bb63810a2dfe9f8cb0564669
CREATED;VALUE=DATE-TIME:20220103T000000Z
CATEGORIES:Agenda institucional
LOCATION:Comissaria de policia
URL:https://www.canetdemar.cat/document.php?id=22389
END:VEVENT
END:VCALENDAR