BEGIN:VCALENDAR
VERSION:2.0
PRODID:-//Plone.org//NONSGML plone.app.event//EN
X-WR-TIMEZONE:Europe/Madrid
BEGIN:VEVENT
SUMMARY:Club de Lectura
DTSTART;TZID=Europe/Madrid;VALUE=DATE-TIME:20220617T171500
DTEND;TZID=Europe/Madrid;VALUE=DATE-TIME:20220617T181500
DTSTAMP;VALUE=DATE-TIME:20260421T144707Z
UID:61d8de08eb70a7954932d642d7eafd07
CREATED;VALUE=DATE-TIME:20220617T000000Z
CATEGORIES:Literatura
LOCATION:Biblioteca P. Gual i Pujadas
ORGANIZER:Biblioteca P. Gual i Pujadas
COMMENT:Preu: Gratuït
DESCRIPTION:Junil a les terres dels bàrbars de Joan-Lluís Lluís
URL:https://www.canetdemar.cat/document.php?id=22386
END:VEVENT
END:VCALENDAR