BEGIN:VCALENDAR
VERSION:2.0
PRODID:-//Plone.org//NONSGML plone.app.event//EN
X-WR-TIMEZONE:Europe/Madrid
BEGIN:VEVENT
SUMMARY:Club de Lectura: La pell i la princesa de  Sebastià Alzamora
DTSTART;TZID=Europe/Madrid;VALUE=DATE-TIME:20220520T163000
DTEND;TZID=Europe/Madrid;VALUE=DATE-TIME:20220520T173000
DTSTAMP;VALUE=DATE-TIME:20260426T014804Z
UID:d553ebcd57021b76e1a78f86a69e3fff
CREATED;VALUE=DATE-TIME:20220520T000000Z
CATEGORIES:Literatura
LOCATION:Biblioteca P. Gual i Pujadas
ORGANIZER:Biblioteca P. Gual i Pujadas
COMMENT:Preu: Gratuït
URL:https://www.canetdemar.cat/document.php?id=22384
END:VEVENT
END:VCALENDAR