BEGIN:VCALENDAR
VERSION:2.0
PRODID:-//Plone.org//NONSGML plone.app.event//EN
X-WR-TIMEZONE:Europe/Madrid
BEGIN:VEVENT
SUMMARY:Club de Lectura: Algú com tu de Xavier Bosch
DTSTART;TZID=Europe/Madrid;VALUE=DATE-TIME:20220422T181500
DTEND;TZID=Europe/Madrid;VALUE=DATE-TIME:20220422T191500
DTSTAMP;VALUE=DATE-TIME:20260420T064311Z
UID:1b14bf9aea80698ff25bc5817053525d
CREATED;VALUE=DATE-TIME:20220422T000000Z
CATEGORIES:Literatura
LOCATION:Biblioteca P. Gual i Pujadas
ORGANIZER:Biblioteca P. Gual i Pujadas
COMMENT:Preu: Gratuït
URL:https://www.canetdemar.cat/document.php?id=22377
END:VEVENT
END:VCALENDAR