BEGIN:VCALENDAR
VERSION:2.0
PRODID:-//Plone.org//NONSGML plone.app.event//EN
X-WR-TIMEZONE:Europe/Madrid
BEGIN:VEVENT
SUMMARY:Ball per a tothom
DTSTART;TZID=Europe/Madrid;VALUE=DATE-TIME:20060528T190000
DTEND;TZID=Europe/Madrid;VALUE=DATE-TIME:20060528T200000
DTSTAMP;VALUE=DATE-TIME:20260423T165643Z
UID:89f4eb8cb01dec1203d3c118de2da8ce
CREATED;VALUE=DATE-TIME:20060528T000000Z
URL:https://www.canetdemar.cat/document.php?id=2237
END:VEVENT
END:VCALENDAR