BEGIN:VCALENDAR
VERSION:2.0
PRODID:-//Plone.org//NONSGML plone.app.event//EN
X-WR-TIMEZONE:Europe/Madrid
BEGIN:VEVENT
SUMMARY:Club de Lectura: Animal de bosc de Joan Margarit
DTSTART;TZID=Europe/Madrid;VALUE=DATE-TIME:20220218T163000
DTEND;TZID=Europe/Madrid;VALUE=DATE-TIME:20220218T173000
DTSTAMP;VALUE=DATE-TIME:20260420T064234Z
UID:0f2a4a3e03bbc7be241af4a3857251bd
CREATED;VALUE=DATE-TIME:20220218T000000Z
CATEGORIES:Literatura
LOCATION:Biblioteca P. Gual i Pujadas
ORGANIZER:Biblioteca P. Gual i Pujadas
COMMENT:Preu: Gratuït
URL:https://www.canetdemar.cat/document.php?id=22362
END:VEVENT
END:VCALENDAR