BEGIN:VCALENDAR
VERSION:2.0
PRODID:-//Plone.org//NONSGML plone.app.event//EN
X-WR-TIMEZONE:Europe/Madrid
BEGIN:VEVENT
SUMMARY:Mercat de Nadal
DTSTART;TZID=Europe/Madrid;VALUE=DATE-TIME:20221218T100000
DTEND;TZID=Europe/Madrid;VALUE=DATE-TIME:20221218T110000
DTSTAMP;VALUE=DATE-TIME:20260424T180630Z
UID:82ad6ce7b06496cb943ed547bdd77159
CREATED;VALUE=DATE-TIME:20221217T000000Z
LOCATION:plaça Macià
ORGANIZER:Mares Malabaristes amb la col·laboració de l'Àrea de Promoció Econòmica, Comerç i Turisme
COMMENT:Durada: 17 i 18 de desembre - de 10.00 a 21.00 hores
URL:https://www.canetdemar.cat/document.php?id=22346
END:VEVENT
END:VCALENDAR