BEGIN:VCALENDAR
VERSION:2.0
PRODID:-//Plone.org//NONSGML plone.app.event//EN
X-WR-TIMEZONE:Europe/Madrid
BEGIN:VEVENT
SUMMARY:Fira d'artesania
DTSTART;TZID=Europe/Madrid;VALUE=DATE-TIME:20220702T100000
DTEND;TZID=Europe/Madrid;VALUE=DATE-TIME:20220702T110000
DTSTAMP;VALUE=DATE-TIME:20260423T132047Z
UID:e8df4c9d954d8567b635c022d5288759
CREATED;VALUE=DATE-TIME:20220702T000000Z
LOCATION:plaça Macià
ORGANIZER:Mares Malabaristes amb la col·laboració de l'Àrea de Promoció Econòmica, Comerç i Turisme
COMMENT:Durada: de 10.00 a 21.00 hores
DESCRIPTION:Mostra d'artesania i producte de proximitat
URL:https://www.canetdemar.cat/document.php?id=22341
END:VEVENT
END:VCALENDAR