BEGIN:VCALENDAR
VERSION:2.0
PRODID:-//Plone.org//NONSGML plone.app.event//EN
X-WR-TIMEZONE:Europe/Madrid
BEGIN:VEVENT
SUMMARY:Fira d'artesania
DTSTART;TZID=Europe/Madrid;VALUE=DATE-TIME:20220319T100000
DTEND;TZID=Europe/Madrid;VALUE=DATE-TIME:20220319T110000
DTSTAMP;VALUE=DATE-TIME:20260425T210751Z
UID:1a45d2797872caf8d32f072e0963a8e0
CREATED;VALUE=DATE-TIME:20220319T000000Z
LOCATION:plaça Macià
ORGANIZER:Mares Malabaristes amb la col·laboració de l'Àrea de Promoció Econòmica, Comerç i Turisme
COMMENT:Durada: de 10.00 a 21.00 hores
DESCRIPTION:Mostra d'artesania i producte de proximitat
URL:https://www.canetdemar.cat/document.php?id=22336
END:VEVENT
END:VCALENDAR