BEGIN:VCALENDAR
VERSION:2.0
PRODID:-//Plone.org//NONSGML plone.app.event//EN
X-WR-TIMEZONE:Europe/Madrid
BEGIN:VEVENT
SUMMARY:Celebració de l'Eucaristia per "les dones diem no a la guerra, sí a l'amor"
DTSTART;TZID=Europe/Madrid;VALUE=DATE-TIME:20030309T120000
DTEND;TZID=Europe/Madrid;VALUE=DATE-TIME:20030309T130000
DTSTAMP;VALUE=DATE-TIME:20260425T015218Z
UID:de6c65a6a8d782bb9f7e67bf7744d6da
CREATED;VALUE=DATE-TIME:20030309T000000Z
DESCRIPTION:Acte del Dia Internacional de la Dona
URL:https://www.canetdemar.cat/document.php?id=223
END:VEVENT
END:VCALENDAR