BEGIN:VCALENDAR
VERSION:2.0
PRODID:-//Plone.org//NONSGML plone.app.event//EN
X-WR-TIMEZONE:Europe/Madrid
BEGIN:VEVENT
SUMMARY:La salut mental, una cosa de tots
DTSTART;TZID=Europe/Madrid;VALUE=DATE-TIME:20220128T183000
DTEND;TZID=Europe/Madrid;VALUE=DATE-TIME:20220128T193000
DTSTAMP;VALUE=DATE-TIME:20260423T064246Z
UID:0adecf9203062b6c221ca457cef0c107
CREATED;VALUE=DATE-TIME:20220128T000000Z
CATEGORIES:Conferència
LOCATION:Biblioteca P. Gual i Pujadas
ORGANIZER:Biblioteca P. Gual i Pujadas
COMMENT:Preu: gratuït
DESCRIPTION:Xerrada a càrrec del Dr. Guillem Homet
URL:https://www.canetdemar.cat/document.php?id=22285
END:VEVENT
END:VCALENDAR