BEGIN:VCALENDAR
VERSION:2.0
PRODID:-//Plone.org//NONSGML plone.app.event//EN
X-WR-TIMEZONE:Europe/Madrid
BEGIN:VEVENT
SUMMARY:Assistència a la conferència 'Saps que amaga l'Ateneu?
DTSTART;TZID=Europe/Madrid;VALUE=DATE-TIME:20211227T183000
DTEND;TZID=Europe/Madrid;VALUE=DATE-TIME:20211227T193000
DTSTAMP;VALUE=DATE-TIME:20260424T081628Z
UID:602c877190e526a0d0f45627e31f56b0
CREATED;VALUE=DATE-TIME:20211227T000000Z
CATEGORIES:Agenda institucional
LOCATION:Casa Museu Lluís Domènech i Montaner
URL:https://www.canetdemar.cat/document.php?id=22283
END:VEVENT
END:VCALENDAR