BEGIN:VCALENDAR
VERSION:2.0
PRODID:-//Plone.org//NONSGML plone.app.event//EN
X-WR-TIMEZONE:Europe/Madrid
BEGIN:VEVENT
SUMMARY:"Modernisme i Vitralls"
DTSTART;TZID=Europe/Madrid;VALUE=DATE-TIME:20220116T110000
DTEND;TZID=Europe/Madrid;VALUE=DATE-TIME:20220116T120000
DTSTAMP;VALUE=DATE-TIME:20260426T013632Z
UID:d69ab04af9185f984923d9c4bf1b992e
CREATED;VALUE=DATE-TIME:20220116T000000Z
LOCATION:Punt de trobada : Casa museu Lluís Domènech i Montaner
ORGANIZER:Àrea de Cultura - Ajuntament de Canet de Mar
COMMENT:Preu: 7&euro; (descomptes jubilats, estudiants i carnet de biblioteca 6&euro;)
Durada: 1 h 30' aprox.
DESCRIPTION:Gaudeix dels secrets dels vitralls
URL:https://www.canetdemar.cat/document.php?id=22261
END:VEVENT
END:VCALENDAR