BEGIN:VCALENDAR
VERSION:2.0
PRODID:-//Plone.org//NONSGML plone.app.event//EN
X-WR-TIMEZONE:Europe/Madrid
BEGIN:VEVENT
SUMMARY:Assistència a la manifestació de SOMESCOLA
DTSTART;TZID=Europe/Madrid;VALUE=DATE-TIME:20211218T110000
DTEND;TZID=Europe/Madrid;VALUE=DATE-TIME:20211218T120000
DTSTAMP;VALUE=DATE-TIME:20260423T101853Z
UID:758dd90f6f2b23142204f8b4f8b0ed9c
CREATED;VALUE=DATE-TIME:20211218T000000Z
CATEGORIES:Agenda institucional
LOCATION:Barcelona
URL:https://www.canetdemar.cat/document.php?id=22256
END:VEVENT
END:VCALENDAR