BEGIN:VCALENDAR
VERSION:2.0
PRODID:-//Plone.org//NONSGML plone.app.event//EN
X-WR-TIMEZONE:Europe/Madrid
BEGIN:VEVENT
SUMMARY:Reunió amb un veí de Canet de Mar
DTSTART;TZID=Europe/Madrid;VALUE=DATE-TIME:20211217T100000
DTEND;TZID=Europe/Madrid;VALUE=DATE-TIME:20211217T110000
DTSTAMP;VALUE=DATE-TIME:20260422T234954Z
UID:0fdcb5427f0c006efd144a034775e702
CREATED;VALUE=DATE-TIME:20211217T000000Z
CATEGORIES:Agenda institucional
LOCATION:Sala annexa Alcaldia
URL:https://www.canetdemar.cat/document.php?id=22253
END:VEVENT
END:VCALENDAR