BEGIN:VCALENDAR
VERSION:2.0
PRODID:-//Plone.org//NONSGML plone.app.event//EN
X-WR-TIMEZONE:Europe/Madrid
BEGIN:VEVENT
SUMMARY:Gravació del missatge de Cap d'any
DTSTART;TZID=Europe/Madrid;VALUE=DATE-TIME:20211215T123000
DTEND;TZID=Europe/Madrid;VALUE=DATE-TIME:20211215T133000
DTSTAMP;VALUE=DATE-TIME:20260421T131750Z
UID:72f1aae25caf162f91c83186512df024
CREATED;VALUE=DATE-TIME:20211215T000000Z
CATEGORIES:Agenda institucional
LOCATION:Estudis de Ràdio Canet
URL:https://www.canetdemar.cat/document.php?id=22251
END:VEVENT
END:VCALENDAR