BEGIN:VCALENDAR
VERSION:2.0
PRODID:-//Plone.org//NONSGML plone.app.event//EN
X-WR-TIMEZONE:Europe/Madrid
BEGIN:VEVENT
SUMMARY:Reunió de coordinació interna de l'Ajuntament
DTSTART;TZID=Europe/Madrid;VALUE=DATE-TIME:20211215T110000
DTEND;TZID=Europe/Madrid;VALUE=DATE-TIME:20211215T120000
DTSTAMP;VALUE=DATE-TIME:20260422T125857Z
UID:0d0c122e299b4137eaab66a7351ed498
CREATED;VALUE=DATE-TIME:20211215T000000Z
CATEGORIES:Agenda institucional
URL:https://www.canetdemar.cat/document.php?id=22247
END:VEVENT
END:VCALENDAR