BEGIN:VCALENDAR
VERSION:2.0
PRODID:-//Plone.org//NONSGML plone.app.event//EN
X-WR-TIMEZONE:Europe/Madrid
BEGIN:VEVENT
SUMMARY:Reunió 'Sostre 360' amb el departament de Drets Socials
DTSTART;TZID=Europe/Madrid;VALUE=DATE-TIME:20211213T163000
DTEND;TZID=Europe/Madrid;VALUE=DATE-TIME:20211213T173000
DTSTAMP;VALUE=DATE-TIME:20260421T174244Z
UID:f7c314b3899cf476eaf0e29cd0c7c580
CREATED;VALUE=DATE-TIME:20211213T000000Z
CATEGORIES:Agenda institucional
URL:https://www.canetdemar.cat/document.php?id=22245
END:VEVENT
END:VCALENDAR