BEGIN:VCALENDAR
VERSION:2.0
PRODID:-//Plone.org//NONSGML plone.app.event//EN
X-WR-TIMEZONE:Europe/Madrid
BEGIN:VEVENT
SUMMARY:Assistència al Pessebre Vivent
DTSTART;TZID=Europe/Madrid;VALUE=DATE-TIME:20211212T190000
DTEND;TZID=Europe/Madrid;VALUE=DATE-TIME:20211212T200000
DTSTAMP;VALUE=DATE-TIME:20260423T221749Z
UID:41977a5d30207095bae030c79a6572eb
CREATED;VALUE=DATE-TIME:20211212T000000Z
CATEGORIES:Agenda institucional
LOCATION:Al voltant de l'Església de Sant Pere i Sant Pau
URL:https://www.canetdemar.cat/document.php?id=22244
END:VEVENT
END:VCALENDAR