BEGIN:VCALENDAR
VERSION:2.0
PRODID:-//Plone.org//NONSGML plone.app.event//EN
X-WR-TIMEZONE:Europe/Madrid
BEGIN:VEVENT
SUMMARY:Assistència inauguració mural 'Canet amb ulls de dona'
DTSTART;TZID=Europe/Madrid;VALUE=DATE-TIME:20211212T120000
DTEND;TZID=Europe/Madrid;VALUE=DATE-TIME:20211212T130000
DTSTAMP;VALUE=DATE-TIME:20260425T162828Z
UID:e8a06e1391099ab02c3e3d2d860d8315
CREATED;VALUE=DATE-TIME:20211212T000000Z
CATEGORIES:Agenda institucional
LOCATION:Plaça Macià
URL:https://www.canetdemar.cat/document.php?id=22243
END:VEVENT
END:VCALENDAR