BEGIN:VCALENDAR
VERSION:2.0
PRODID:-//Plone.org//NONSGML plone.app.event//EN
X-WR-TIMEZONE:Europe/Madrid
BEGIN:VEVENT
SUMMARY:Assistència a l'espectacle 'El somni de la Clara'
DTSTART;TZID=Europe/Madrid;VALUE=DATE-TIME:20211210T180000
DTEND;TZID=Europe/Madrid;VALUE=DATE-TIME:20211210T190000
DTSTAMP;VALUE=DATE-TIME:20260424T170707Z
UID:1be87ccde45dd3053c1c63688bf83caa
CREATED;VALUE=DATE-TIME:20211210T000000Z
CATEGORIES:Agenda institucional
LOCATION:Envelat de Vil·la Flora
URL:https://www.canetdemar.cat/document.php?id=22242
END:VEVENT
END:VCALENDAR