BEGIN:VCALENDAR
VERSION:2.0
PRODID:-//Plone.org//NONSGML plone.app.event//EN
X-WR-TIMEZONE:Europe/Madrid
BEGIN:VEVENT
SUMMARY:Declaracions premsa
DTSTART;TZID=Europe/Madrid;VALUE=DATE-TIME:20211210T180000
DTEND;TZID=Europe/Madrid;VALUE=DATE-TIME:20211210T190000
DTSTAMP;VALUE=DATE-TIME:20260424T125946Z
UID:091ef9abe4f991bdfba7c3095abd940c
CREATED;VALUE=DATE-TIME:20211210T000000Z
CATEGORIES:Agenda institucional
LOCATION:Biblioteca P. Gual i Pujadas
URL:https://www.canetdemar.cat/document.php?id=22236
END:VEVENT
END:VCALENDAR