BEGIN:VCALENDAR
VERSION:2.0
PRODID:-//Plone.org//NONSGML plone.app.event//EN
X-WR-TIMEZONE:Europe/Madrid
BEGIN:VEVENT
SUMMARY:Assistència a la manifestació en suport de l'Escola en Català
DTSTART;TZID=Europe/Madrid;VALUE=DATE-TIME:20211210T163000
DTEND;TZID=Europe/Madrid;VALUE=DATE-TIME:20211210T173000
DTSTAMP;VALUE=DATE-TIME:20260425T222900Z
UID:cbe408fe67014bf2f01897cc2ef6ca76
CREATED;VALUE=DATE-TIME:20211210T000000Z
CATEGORIES:Agenda institucional
LOCATION:Font del Drac
URL:https://www.canetdemar.cat/document.php?id=22235
END:VEVENT
END:VCALENDAR